BEGIN:VCALENDAR
VERSION:2.0
PRODID:-//healthedcouncil.org//NONSGML kigkonsult.se iCalcreator 2.30.10//
CALSCALE:GREGORIAN
METHOD:PUBLISH
UID:53f2b4ed-27a5-423e-8d77-ecb20509de35
X-WR-CALDESC:HEC and the Mexican Consulate in Sacramento are pleased to co-
 present the 11th Women’s Leadership Conference/Conferencia De Liderazgo pa
 ra Mujeres en el Norte de California\, now called Somos.\n\nAs the region'
 s premier Spanish-language conference for women\, the event equips women w
 ith relevant and timely information on health issues\, like diabetes and m
 ental health as well as other important legal and education topics affecti
 ng the Latino immigrant community. English translation available.
X-WR-RELCALID:b3b6580688057f097ad7b1281a072eec
X-WR-TIMEZONE:America/Los_Angeles
BEGIN:VTIMEZONE
TZID:America/Los_Angeles
BEGIN:STANDARD
TZNAME:PST
DTSTART:20221106T020000
TZOFFSETFROM:-0700
TZOFFSETTO:-0800
RDATE:20231105T020000
RDATE:20241103T020000
END:STANDARD
BEGIN:DAYLIGHT
TZNAME:PDT
DTSTART:20230312T020000
TZOFFSETFROM:-0800
TZOFFSETTO:-0700
RDATE:20240310T020000
END:DAYLIGHT
END:VTIMEZONE
BEGIN:VEVENT
UID:8ce2481b-0c03-48ac-ad3b-806318f76222
DTSTAMP:20260419T130036Z
DESCRIPTION:HEC and the Mexican Consulate in Sacramento are pleased to co-p
 resent the 11th Women’s Leadership Conference/Conferencia De Liderazgo par
 a Mujeres en el Norte de California\, now called Somos.\n\nAs the region's
  premier Spanish-language conference for women\, the event equips women wi
 th relevant and timely information on health issues\, like diabetes and me
 ntal health as well as other important legal and education topics affectin
 g the Latino immigrant community. English translation available.
DTSTART;TZID=America/Los_Angeles:20230520T090000
DTEND;TZID=America/Los_Angeles:20230520T150000
LOCATION:2093 Arena Blvd. \, Sacramento\, CA 95834 US
SUMMARY:Somos Latina Leadership Conference
END:VEVENT
END:VCALENDAR
